BEGIN:VCALENDAR
VERSION:2.0
PRODID:-//中之条ビエンナーレ 国際現代芸術祭  NAKANOJO BIENNALE - ECPv5.5.0//NONSGML v1.0//EN
CALSCALE:GREGORIAN
METHOD:PUBLISH
X-WR-CALNAME:中之条ビエンナーレ 国際現代芸術祭  NAKANOJO BIENNALE
X-ORIGINAL-URL:https://nakanojo-biennale.com
X-WR-CALDESC:中之条ビエンナーレ 国際現代芸術祭  NAKANOJO BIENNALE のイベント
BEGIN:VTIMEZONE
TZID:Asia/Tokyo
BEGIN:STANDARD
TZOFFSETFROM:+0900
TZOFFSETTO:+0900
TZNAME:JST
DTSTART:20190101T000000
END:STANDARD
END:VTIMEZONE
BEGIN:VEVENT
DTSTART;TZID=Asia/Tokyo:20190923T180000
DTEND;TZID=Asia/Tokyo:20190923T200000
DTSTAMP:20260426T115051
CREATED:20190529T072810Z
LAST-MODIFIED:20190919T091054Z
UID:10980-1569261600-1569268800@nakanojo-biennale.com
SUMMARY:クロージングイベント2019　盆踊・ボヤージュ中之条！
DESCRIPTION:輪が広がり、暖かさと懐かしさの中に独自性が育まれ、\n祝祭の中に未来への糧を見つけていくこと。\nそれは\n昔からの生活と、今の瞬間と、これからの日々との接点。\nそれは\nそこに住み、そこで過ごし、そこに生きていくことへの祈り。 \n中之条の日々の生活が中心となり、アーティストが彩り、市民が集い、\n混ざり合い、刺激し合い、日常の中に中之条ビエンナーレが入り込む。 \n芸術と生活という二つの炎を中心に、\nまる裸のいのちの交流が生まれることを願って、\n中之条盆踊りをさぁ踊りましょう。 \n浴衣参加歓迎！ \n  \nやぐらを飾る「お花」を募集します。\n23日当日13時以降、つむじ広場にて受付ます。\n条件は「自分が花だと思うもの（機械や危険物は除く）」です！\nご自身でやぐらに飾っていただくことができます。\nお待ちしています！ \n  \n演出：中原和樹\n出演：DamaDamTal + \, fune（フーン）\n作曲：福島拓也\n日程：9月23日(月祝)\n時間：18:00～\n会場：つむじ広場\n参加費：入場無料
URL:https://nakanojo-biennale.com/event/closing2019
LOCATION:つむじ\, 大字中之条町938\, 吾妻郡中之条町\, 群馬県\, 〒377-0424
CATEGORIES:イベント
ATTACH;FMTTYPE=image/jpeg:https://nakanojo-biennale.com/wp/wp-content/uploads/2019/05/a0800_000349_m.jpg
GEO:36.588676;138.8422751
X-APPLE-STRUCTURED-LOCATION;VALUE=URI;X-ADDRESS=つむじ 大字中之条町938 吾妻郡中之条町 群馬県 〒377-0424;X-APPLE-RADIUS=500;X-TITLE=大字中之条町938:geo:138.8422751,36.588676
END:VEVENT
END:VCALENDAR