BEGIN:VCALENDAR
VERSION:2.0
PRODID:-//中之条ビエンナーレ 国際現代芸術祭  NAKANOJO BIENNALE - ECPv5.5.0//NONSGML v1.0//EN
CALSCALE:GREGORIAN
METHOD:PUBLISH
X-WR-CALNAME:中之条ビエンナーレ 国際現代芸術祭  NAKANOJO BIENNALE
X-ORIGINAL-URL:https://nakanojo-biennale.com
X-WR-CALDESC:中之条ビエンナーレ 国際現代芸術祭  NAKANOJO BIENNALE のイベント
BEGIN:VTIMEZONE
TZID:Asia/Tokyo
BEGIN:STANDARD
TZOFFSETFROM:+0900
TZOFFSETTO:+0900
TZNAME:JST
DTSTART:20190101T000000
END:STANDARD
END:VTIMEZONE
BEGIN:VEVENT
DTSTART;TZID=Asia/Tokyo:20190920T130000
DTEND;TZID=Asia/Tokyo:20190920T150000
DTSTAMP:20260426T115019
CREATED:20190619T083614Z
LAST-MODIFIED:20190816T011140Z
UID:11029-1568984400-1568991600@nakanojo-biennale.com
SUMMARY:影をつかまえる－フォトグラムワークショップ－
DESCRIPTION:カメラを使わずに太陽光と感光紙（ジアゾ感光紙）を用いて写真を撮るワークショップ。 光による感光面の「日焼け」が写真であるという写真の原理がシンプルに体験出来ます。 自分の大切にしている思い出の品や会場の周りにあるものをモチーフに画面を構成します。 光による影の生まれ方や、感光紙に映像が焼き付く時間を意識しながら作品制作をします。 \n作　家：浅見俊哉 \n日　程：9/20（金） 9/21（土） 9/22（日）\n時　間：13:00-15:00\n会　場：旧沢田小学校　浅見俊哉展示会場\n対　象：小学生以上\n参加費：1000円 \n※汚れてもよい服装、自分が大切にしているものや記憶の品を持参してください。
URL:https://nakanojo-biennale.com/event/catch-a-shadow%ef%bc%8dphotogram-work-shop%ef%bc%8d/2019-09-20
LOCATION:旧沢田小学校\, 群馬県吾妻郡中之条町下沢渡964-1
CATEGORIES:参加型アート
ATTACH;FMTTYPE=image/jpeg:https://nakanojo-biennale.com/wp/wp-content/uploads/2019/05/DSC6371.jpeg
GEO:36.6114193;138.7925903
X-APPLE-STRUCTURED-LOCATION;VALUE=URI;X-ADDRESS=旧沢田小学校 群馬県吾妻郡中之条町下沢渡964-1;X-APPLE-RADIUS=500;X-TITLE=群馬県吾妻郡中之条町下沢渡964-1:geo:138.7925903,36.6114193
END:VEVENT
END:VCALENDAR