BEGIN:VCALENDAR
VERSION:2.0
PRODID:-//中之条ビエンナーレ 国際現代芸術祭  NAKANOJO BIENNALE - ECPv5.5.0//NONSGML v1.0//EN
CALSCALE:GREGORIAN
METHOD:PUBLISH
X-WR-CALNAME:中之条ビエンナーレ 国際現代芸術祭  NAKANOJO BIENNALE
X-ORIGINAL-URL:https://nakanojo-biennale.com
X-WR-CALDESC:中之条ビエンナーレ 国際現代芸術祭  NAKANOJO BIENNALE のイベント
BEGIN:VTIMEZONE
TZID:Asia/Tokyo
BEGIN:STANDARD
TZOFFSETFROM:+0900
TZOFFSETTO:+0900
TZNAME:JST
DTSTART:20190101T000000
END:STANDARD
END:VTIMEZONE
BEGIN:VEVENT
DTSTART;TZID=Asia/Tokyo:20190914T130000
DTEND;TZID=Asia/Tokyo:20190914T160000
DTSTAMP:20260426T115040
CREATED:20190827T095911Z
LAST-MODIFIED:20190903T023315Z
UID:12594-1568466000-1568476800@nakanojo-biennale.com
SUMMARY:ASH PAINTING
DESCRIPTION:『ASH PAINTING』では、中之条町の廃棄物処理場の焼却灰を素材としてライブペインティングを行う。 \n焼却灰は人々の生活の地層であり、人々の記憶と有害な物質を同時に内包している。ジェイミ・ハンフリーズ（中之条ビエンナーレの出展作家）とモグラ（東京藝術大学油画科在籍のアーティスト5名のグループ）は人間社会のサイクルに介入し、我々の記憶を掘り起こす。描かれたイメージは象徴であり、鑑賞者は行為を通して失われた過去と失われゆく現在を見つめる。 \n  \nASH PAINTING is a live painting performance in which incinerated ash from the waste disposal site of Nakanojo will be utilized as a painting material. \nAsh produced from waste can be seen as the stratum of people’s lives\, linked to memories but at the same time causing the release of harmful by-products. Jaime Humphreys (participating artist in Nakanojo Biennale 2019) and Mole (a group of five artists from Oil Painting\, Tokyo University of the Arts) will intervene in the cycles of human society in order to unearth our memories. The resulting image will act as a symbol that encourages the viewer to reflect on things lost in the past and present through these actions. \n作家：ジェイミ・ハンフリーズ×モグラ \n日　程：９月１４（土）１３：００—１６：００\n– 　　　９月１５（日）１０：００—１６：００\n会　場：イサマムラ（本イベントの成果物は、つむじホールで展示される予定）\n※雨天の場合、開催時間と会場が変更の可能性あり\n参加費：入場無料
URL:https://nakanojo-biennale.com/event/ash-painting/2019-09-14
LOCATION:イサマムラ\, 大字五反田3534-4\, 吾妻郡中之条町\, 群馬県\, 377-0432
CATEGORIES:イベント
ATTACH;FMTTYPE=image/jpeg:https://nakanojo-biennale.com/wp/wp-content/uploads/2019/08/ASH-PAINTING_main-visual.jpg
GEO:36.6216113;138.8365332
X-APPLE-STRUCTURED-LOCATION;VALUE=URI;X-ADDRESS=イサマムラ 大字五反田3534-4 吾妻郡中之条町 群馬県 377-0432;X-APPLE-RADIUS=500;X-TITLE=大字五反田3534-4:geo:138.8365332,36.6216113
END:VEVENT
BEGIN:VEVENT
DTSTART;TZID=Asia/Tokyo:20190914T133000
DTEND;TZID=Asia/Tokyo:20190914T150000
DTSTAMP:20260426T115040
CREATED:20190620T012510Z
LAST-MODIFIED:20190711T021223Z
UID:11073-1568467800-1568473200@nakanojo-biennale.com
SUMMARY:白い人たち＆ぴった湯
DESCRIPTION:作者の分身である、ひたむきで気まぐれな白い存在と、躍動する温泉街の物語。白いコスチュームに身を包み、日常の年齢、国籍、肩書き等から解き放たれた「白い人たち」は、四万温泉を非日常の世界に変換し、緩やかに漂います。鐘の音を合図にパレードが進み、旅館の仲居に扮したダンサー集団“ぴった湯”と出会うと、温泉ダンスが始まります。奇妙で無防備な白い人たちと、経験豊かなダンサーたちとの対比は、偶発的で瑞々しく、舞踊のスキルに関わらず、身体を伴うコミュニケーションや表現の可能性について、新たな視座をもたらします。 \n出　演：桐生大学短期大学部アート・デザイン学科学生、ダンサー（ぴった湯）、ボランティアの方々\n作　家：大日向 基子 \n日　時：9月14日（土）13:30-15:00 ／ 9月15日（日）13:30-15:00　（目安時間）\n会　場：まりや　四万温泉エリア\n参加費：無料
URL:https://nakanojo-biennale.com/event/pitta-selected-dancers-with-people-in-white/2019-09-14
LOCATION:まりや　四万温泉エリア
CATEGORIES:パフォーマンス
ATTACH;FMTTYPE=image/jpeg:https://nakanojo-biennale.com/wp/wp-content/uploads/2019/06/c92249416840cf621316f841d190c242.jpg
END:VEVENT
BEGIN:VEVENT
DTSTART;TZID=Asia/Tokyo:20190914T133000
DTEND;TZID=Asia/Tokyo:20190914T150000
DTSTAMP:20260426T115040
CREATED:20190620T073847Z
LAST-MODIFIED:20190711T021223Z
UID:11146-1568467800-1568473200@nakanojo-biennale.com
SUMMARY:なかんじょアートミーティング＋黒澤直啓「ワイヤーアート」
DESCRIPTION:知的障害のある人たちによる創作活動「なかんじょアートミーティング」の様子を一般公開します。\n地元の吾妻郡手をつなぐ育成会がイサマムラ内交流館で一ヶ月に一度開催しています。今回はゲストに工房あかねART・ONから黒澤直啓さんを招き、定例活動をします。 \n黒澤直啓の「ワイヤーアート」\n頭の中にある今日つくりたいもの、主に恐竜・怪獣・空想の生物などを針金をベースに、そこら辺にあるいろいろなものを入れるようになった。ブリコラージュ的手法だ。実にいろんなものが入っているので、そこが面白い。 \n講　師：関孝之、佐々木良太、佐々木美加、前島芳隆\n作　家：なかんじょアートミーティング × 工房あかね アトリエART・ON \n日　時：9月14日（土）13:30〜15:00\n会　場：イサマムラ内　交流館\n参加費：観覧無料
URL:https://nakanojo-biennale.com/event/nakanjo-art-meeting-tokuhira-kurosawa
LOCATION:イサマムラ\, 大字五反田3534-4\, 吾妻郡中之条町\, 群馬県\, 377-0432
CATEGORIES:パフォーマンス
ATTACH;FMTTYPE=image/jpeg:https://nakanojo-biennale.com/wp/wp-content/uploads/2019/06/nakanjoartmeeting_01.jpg
GEO:36.6216113;138.8365332
X-APPLE-STRUCTURED-LOCATION;VALUE=URI;X-ADDRESS=イサマムラ 大字五反田3534-4 吾妻郡中之条町 群馬県 377-0432;X-APPLE-RADIUS=500;X-TITLE=大字五反田3534-4:geo:138.8365332,36.6216113
END:VEVENT
BEGIN:VEVENT
DTSTART;TZID=Asia/Tokyo:20190914T150000
DTEND;TZID=Asia/Tokyo:20190914T161000
DTSTAMP:20260426T115040
CREATED:20190531T051839Z
LAST-MODIFIED:20190711T021223Z
UID:11061-1568473200-1568477400@nakanojo-biennale.com
SUMMARY:はじめての『ポイ』
DESCRIPTION:DamaDamTalのパフォーマンス中にも度々登場する、ボールに紐がついた道具『ポイ』。元々はニュージーランドの先住民族のマオリ族が使っていた道具なんです。今回の初めての方向けのワークショップでは基本の回し方を覚えて気持ちよく動いてみましょう！\n・ハードな運動ではありませんが、動きやすい服装で来てください。\n・道具は貸し出しいたします。 \n作　家：木村元郁 (DamaDamTal+) \n日　程：9月14日(土) 15:00〜16:10 　受付開始 14:45\n会　場：つむじ広場(雨天の場合 つむじホール)\n参加費：500円 \n・ハードな運動ではありませんが、動きやすい服装で来てください。\n・道具は貸し出しいたします。
URL:https://nakanojo-biennale.com/event/will-you-try-spinning-poi
LOCATION:つむじ\, 大字中之条町938\, 吾妻郡中之条町\, 群馬県\, 〒377-0424
CATEGORIES:参加型アート
ATTACH;FMTTYPE=image/jpeg:https://nakanojo-biennale.com/wp/wp-content/uploads/2019/05/IMG_2987-1.jpg
GEO:36.588676;138.8422751
X-APPLE-STRUCTURED-LOCATION;VALUE=URI;X-ADDRESS=つむじ 大字中之条町938 吾妻郡中之条町 群馬県 〒377-0424;X-APPLE-RADIUS=500;X-TITLE=大字中之条町938:geo:138.8422751,36.588676
END:VEVENT
END:VCALENDAR