BEGIN:VCALENDAR
VERSION:2.0
PRODID:-//中之条ビエンナーレ 国際現代芸術祭  NAKANOJO BIENNALE - ECPv5.5.0//NONSGML v1.0//EN
CALSCALE:GREGORIAN
METHOD:PUBLISH
X-WR-CALNAME:中之条ビエンナーレ 国際現代芸術祭  NAKANOJO BIENNALE
X-ORIGINAL-URL:https://nakanojo-biennale.com
X-WR-CALDESC:中之条ビエンナーレ 国際現代芸術祭  NAKANOJO BIENNALE のイベント
BEGIN:VTIMEZONE
TZID:Asia/Tokyo
BEGIN:STANDARD
TZOFFSETFROM:+0900
TZOFFSETTO:+0900
TZNAME:JST
DTSTART:20190101T000000
END:STANDARD
END:VTIMEZONE
BEGIN:VEVENT
DTSTART;TZID=Asia/Tokyo:20190909T153000
DTEND;TZID=Asia/Tokyo:20190909T160000
DTSTAMP:20260426T130645
CREATED:20190905T092635Z
LAST-MODIFIED:20190905T093235Z
UID:12827-1568043000-1568044800@nakanojo-biennale.com
SUMMARY:中里広太 サウンドスケープ
DESCRIPTION:農具から機械に変わっていった日本の農業地帯。\nそこに流れる時間のはやさ、人と自然の関わり方、映り込む風景、さらにはそこに響く音までもが変わってしまっただろう。その変化の中に取り残された農具たちの記憶の断片と音の断片を繋ぎ合わせて一つの音風景を作り出せたら、、。 \n出　演：中里広太（DJ）\n作　家：ヒグマ春夫\n日　程：9月9日（月）、10日（火）、11日（水）15:30−16:00\n会　場：旧沢田小学校　ヒグマ春夫展示会場\n対　象：小学生以上\n参加費：カンパ\n詳細 https://0522higu.myportfolio.com/1
URL:https://nakanojo-biennale.com/event/soundscape/2019-09-09
LOCATION:旧沢田小学校\, 群馬県吾妻郡中之条町下沢渡964-1
CATEGORIES:パフォーマンス
GEO:36.6114193;138.7925903
X-APPLE-STRUCTURED-LOCATION;VALUE=URI;X-ADDRESS=旧沢田小学校 群馬県吾妻郡中之条町下沢渡964-1;X-APPLE-RADIUS=500;X-TITLE=群馬県吾妻郡中之条町下沢渡964-1:geo:138.7925903,36.6114193
END:VEVENT
END:VCALENDAR