BEGIN:VCALENDAR
VERSION:2.0
PRODID:-//中之条ビエンナーレ 国際現代芸術祭  NAKANOJO BIENNALE - ECPv5.5.0//NONSGML v1.0//EN
CALSCALE:GREGORIAN
METHOD:PUBLISH
X-WR-CALNAME:中之条ビエンナーレ 国際現代芸術祭  NAKANOJO BIENNALE
X-ORIGINAL-URL:https://nakanojo-biennale.com
X-WR-CALDESC:中之条ビエンナーレ 国際現代芸術祭  NAKANOJO BIENNALE のイベント
BEGIN:VTIMEZONE
TZID:Asia/Tokyo
BEGIN:STANDARD
TZOFFSETFROM:+0900
TZOFFSETTO:+0900
TZNAME:JST
DTSTART:20190101T000000
END:STANDARD
END:VTIMEZONE
BEGIN:VEVENT
DTSTART;TZID=Asia/Tokyo:20190907T100000
DTEND;TZID=Asia/Tokyo:20190907T150000
DTSTAMP:20260426T115019
CREATED:20190814T090236Z
LAST-MODIFIED:20190907T125618Z
UID:12438-1567850400-1567868400@nakanojo-biennale.com
SUMMARY:プログラミング・ワークショップ
DESCRIPTION:ワークショップ内容：\n・人口知能自然会話ロボット（解説、実演）\n・Scratch プログラミング（講習、実習） \n  \n継続的なプログラミングの学びの場をご提供いたします\n2020 年から小学校でのプログラミング教育が必修化されます。また、子ども向けプログラミング教室が急増しておりますが、都市圏に集中しており、地方で学べる機会が限定されて地域格差が生じています。群馬において単発的なプログラミング体験ではなく、継続的にプログラミングを学べる場をビエンナーレ事務局はご提供いたします。 \n  \n対象者：小学生～成人\n日時：9/ 7（土）～ 9/ 8（日） 各日ともに 10：00～15：00\n※申込の際にご希望の日程をお伝えください。 予約優先。ご都合の良い時間のみ受講でも可。\n会場：イサマムラ　ランチルーム\n費用：無料\n持ち物：昼食\n※ 小学生は、大人の方との同伴も可能です。\n※ プログラミング、人口知能に興味のある方歓迎です。 \n講師：チーム・よかボット \nお問合せ先\n中之条町役場 観光商工課\n電話：0279-75-8848 \n 
URL:https://nakanojo-biennale.com/event/programming_ws/2019-09-07
LOCATION:イサマムラ\, 大字五反田3534-4\, 吾妻郡中之条町\, 群馬県\, 377-0432
CATEGORIES:ワークショップ
ATTACH;FMTTYPE=image/jpeg:https://nakanojo-biennale.com/wp/wp-content/uploads/2019/08/68845234_570188150181157_2968145297177313280_n.jpg
GEO:36.6216113;138.8365332
X-APPLE-STRUCTURED-LOCATION;VALUE=URI;X-ADDRESS=イサマムラ 大字五反田3534-4 吾妻郡中之条町 群馬県 377-0432;X-APPLE-RADIUS=500;X-TITLE=大字五反田3534-4:geo:138.8365332,36.6216113
END:VEVENT
BEGIN:VEVENT
DTSTART;TZID=Asia/Tokyo:20190907T130000
DTEND;TZID=Asia/Tokyo:20190907T150000
DTSTAMP:20260426T115019
CREATED:20190619T074814Z
LAST-MODIFIED:20190806T024423Z
UID:11012-1567861200-1567868400@nakanojo-biennale.com
SUMMARY:ワックス・トランスファー / ロウで写真をはがしてみよう
DESCRIPTION:講師が考案した独自の「ワックス・トランスファー」とは、熱で溶かした液状のロウを使い、カラーネガ写真などの銀塩写真プリントを剥がして別の台紙へと移し、独特な写真作品へと昇華させる技法です。光を媒体とする写真をさらに加工し、透光性を持つエンコースティック写真作品は、独特のマチエールと存在感を纏います。参加者のみなさんが持ち寄った写真を、加工し、完成した「写真」を持ち帰ることができます。 \n作家：糸井潤 \n日時： 9月7日（土）13:00-15:00　/　9月14日（土）10:00-12:00\n会場：イサマムラ1Fワークショップスペース\n参加費：500円 \n予約申込：jitoi@hotmail.com \n中学生未満は保護者同伴(熱で溶かしたロウを使用するため、やけどの危険性あり。) \n参加者が用意するもの：\n– 銀塩プリント(*)された L判以下のサイズのカラープリント。\n– よごれても良い服装。 \n＊ 銀塩プリントとは、家電量販店でのセルフデジタルプリント等ではない写真プリントです。詳細は、写真プリントを受け付けているお店でお聞きください。また、インクジェットプリントは使用できません。
URL:https://nakanojo-biennale.com/event/wax-transfer-lets-peel-off-photographs-in-the-hot-wax-tub/2019-09-07
LOCATION:イサマムラ\, 大字五反田3534-4\, 吾妻郡中之条町\, 群馬県\, 377-0432
CATEGORIES:参加型アート
ATTACH;FMTTYPE=image/jpeg:https://nakanojo-biennale.com/wp/wp-content/uploads/2019/06/Itoi-Wax-Workshop-Image.jpg
GEO:36.6216113;138.8365332
X-APPLE-STRUCTURED-LOCATION;VALUE=URI;X-ADDRESS=イサマムラ 大字五反田3534-4 吾妻郡中之条町 群馬県 377-0432;X-APPLE-RADIUS=500;X-TITLE=大字五反田3534-4:geo:138.8365332,36.6216113
END:VEVENT
BEGIN:VEVENT
DTSTART;TZID=Asia/Tokyo:20190907T170000
DTEND;TZID=Asia/Tokyo:20190907T180000
DTSTAMP:20260426T115019
CREATED:20190603T021303Z
LAST-MODIFIED:20190711T021224Z
UID:11104-1567875600-1567879200@nakanojo-biennale.com
SUMMARY:オーディオ & ヴィジュアル コンフリクション
DESCRIPTION:アナログの映像信号と音声信号を反対に入力することにより、生じる映像と音声それぞれのノイズを用いて、映像により音声を、同時に音声により映像を、リアルタイムで操作するオーディオ＆ヴィジュアルパフォーマンス。映像と音声は同じ電子信号として相互に干渉し、イメージとサウンドの破壊と生成が同時に行われる。それは、電子信号である映像と音声が生み出される原初的な場に立ち会うことであり、「映像を見ている」ということ自体を強く意識させる。そこでは、映像が氾濫する現代社会を、映像により思考することが求められるだろう。 \n作　家：西山修平 \n日　時：9月7日（土）17:00～18:00\n会　場：伊参交流館\n入場料：1000円
URL:https://nakanojo-biennale.com/event/audio-visual-confliction
LOCATION:群馬県
CATEGORIES:パフォーマンス
ATTACH;FMTTYPE=image/jpeg:https://nakanojo-biennale.com/wp/wp-content/uploads/2019/06/0111.jpg
END:VEVENT
BEGIN:VEVENT
DTSTART;TZID=Asia/Tokyo:20190907T180000
DTEND;TZID=Asia/Tokyo:20190907T193000
DTSTAMP:20260426T115019
CREATED:20190620T045838Z
LAST-MODIFIED:20190906T110040Z
UID:11099-1567879200-1567884600@nakanojo-biennale.com
SUMMARY:逃げろ！！
DESCRIPTION:天保十年、幕府批判の廉で終身刑を言い渡された高野長英は、牢屋敷に火をつけ脱獄を図る。その後、あらゆる手段を駆使して逃げるわ逃げるわ。そして六合村に潜伏するべく闇に乗じて大道峠を越えようとしたのだった・・・。類い稀な頭脳と世界を見渡す広い視野、そして、人間離れしたしぶとさを兼ね備えた蘭学者・高野長英の逃亡を紅月劇団が全面サポート。国重文・富沢家住宅を舞台に繰り広げられる大逃亡劇。絶賛された富沢家住宅三部作「白の悪夢」「真田の城」「GHOST」に続く、中之条ビエンナーレ書き下ろし作品第四弾！ \n脚本・演出：石倉正英　出演：若林”カムイ”宏彰・石倉正英・河田”カルロス”啓介・伊藤美友・近藤治夫（古楽器・バグパイプ）・他\n美術・照明・衣装：tomoe 諸般：増田透　フライヤーデザイン：キタサヤカ　制作：折笠安彦・秋元淳\n作　家：紅月劇団 \n日　時：9月7日（土）18:00-19:30 ／ 9月8日（日）13:00-14:30 ／ 16:00-17:30\n会　場：富沢家住宅\n参加費：入場無料　投げ銭歓迎 \n当日は近くの公民館よりシャトルバスにて会場までご案内いたします。\n時間に余裕を持って「大道公民館」へお越しくださいますようお願いいたします。\n※車でお越しの方は、大道公民館駐車場（中之条町大字大道1104-1）を利用してください。\n※随時、大道公民館から会場までのシャトルバスを運行しています。（9月7日は16：30～、9月8日は11:30〜 / 14:30～）
URL:https://nakanojo-biennale.com/event/run-away/2019-09-07
LOCATION:群馬県
CATEGORIES:パフォーマンス
ATTACH;FMTTYPE=image/jpeg:https://nakanojo-biennale.com/wp/wp-content/uploads/2019/06/DSC_1567.jpg
END:VEVENT
END:VCALENDAR