BEGIN:VCALENDAR
VERSION:2.0
PRODID:-//中之条ビエンナーレ 国際現代芸術祭  NAKANOJO BIENNALE - ECPv5.5.0//NONSGML v1.0//EN
CALSCALE:GREGORIAN
METHOD:PUBLISH
X-WR-CALNAME:中之条ビエンナーレ 国際現代芸術祭  NAKANOJO BIENNALE
X-ORIGINAL-URL:https://nakanojo-biennale.com
X-WR-CALDESC:中之条ビエンナーレ 国際現代芸術祭  NAKANOJO BIENNALE のイベント
BEGIN:VTIMEZONE
TZID:Asia/Tokyo
BEGIN:STANDARD
TZOFFSETFROM:+0900
TZOFFSETTO:+0900
TZNAME:JST
DTSTART:20190101T000000
END:STANDARD
END:VTIMEZONE
BEGIN:VEVENT
DTSTART;TZID=Asia/Tokyo:20190902T170000
DTEND;TZID=Asia/Tokyo:20190902T180000
DTSTAMP:20260426T114932
CREATED:20190619T112234Z
LAST-MODIFIED:20190711T021225Z
UID:11070-1567443600-1567447200@nakanojo-biennale.com
SUMMARY:鶴田流薩摩琵琶演奏会  ー 古典の調べ ー
DESCRIPTION:DamaDamTal+ の新村康子が、7日間連続で琵琶のソロコンサートを開催します。 \n皆さんは琵琶の演奏を聴いたことがあるでしょうか？\n今回は力強い語りと演奏が特徴である鶴田流薩摩琵琶で、古典作品を演奏いたします。以下の中から、毎日二つの作品をお届けします。\nこの機会に是非、琵琶の音や作品に興味をお持ちいただけましたら幸いです。皆さまのご来場を心よりお待ちしております！ \n〈曲目〉\n太田道灌 / 壇ノ浦 / 敦盛 / 那須与一 / 春の宴 / 白虎隊 / 祇園精舎 \n作　家：新村康子(DamaDamTal+) \n日　時：9月2日(月)〜9月8日(日) 開場 16:30 / 開演 17:00\n会　場：旧廣盛酒造\n入場料：1000円　※未就学児無料
URL:https://nakanojo-biennale.com/event/japanese-lute-concert-classical-songs-by-manner-of-tsuruta/2019-09-02
LOCATION:旧廣盛酒造\, 大字中之条町909-16\, 吾妻郡中之条町\, 群馬県\, 〒377-0424
CATEGORIES:パフォーマンス
ATTACH;FMTTYPE=image/jpeg:https://nakanojo-biennale.com/wp/wp-content/uploads/2019/06/IMG_8568-1.jpeg
GEO:36.5883593;138.8408336
X-APPLE-STRUCTURED-LOCATION;VALUE=URI;X-ADDRESS=旧廣盛酒造 大字中之条町909-16 吾妻郡中之条町 群馬県 〒377-0424;X-APPLE-RADIUS=500;X-TITLE=大字中之条町909-16:geo:138.8408336,36.5883593
END:VEVENT
END:VCALENDAR