BEGIN:VCALENDAR
VERSION:2.0
PRODID:-//中之条ビエンナーレ 国際現代芸術祭  NAKANOJO BIENNALE - ECPv5.5.0//NONSGML v1.0//EN
CALSCALE:GREGORIAN
METHOD:PUBLISH
X-WR-CALNAME:中之条ビエンナーレ 国際現代芸術祭  NAKANOJO BIENNALE
X-ORIGINAL-URL:https://nakanojo-biennale.com
X-WR-CALDESC:中之条ビエンナーレ 国際現代芸術祭  NAKANOJO BIENNALE のイベント
BEGIN:VTIMEZONE
TZID:Asia/Tokyo
BEGIN:STANDARD
TZOFFSETFROM:+0900
TZOFFSETTO:+0900
TZNAME:JST
DTSTART:20190101T000000
END:STANDARD
END:VTIMEZONE
BEGIN:VEVENT
DTSTART;TZID=Asia/Tokyo:20190901T110000
DTEND;TZID=Asia/Tokyo:20190901T120000
DTSTAMP:20260426T114943
CREATED:20190620T055143Z
LAST-MODIFIED:20190711T021225Z
UID:11131-1567335600-1567339200@nakanojo-biennale.com
SUMMARY:アートdeおしゃべり
DESCRIPTION:対話型鑑賞とは、ニューヨーク近代美術館で考案されたアートの鑑賞方法です。美術の専門的な知識は必要ありません。\n子どもからおとなまで、気づいたことや感じたことを自由におしゃべりしましょう！\n自分一人で見ているだけでは気がつかなかったことや他の人の感じ方を知ることで、思いもかけない面白さを発見したり、新たな自分を知ったり、他の人と心を通わせることもできます。\nそしてなにより作品を見ることがもっとずっと楽しくなります。 \n作　家：対話型アート鑑賞ラボ \n日　時：9月1日(日)\n　　　　11:00～12:00/14:00～15:00\n　　　　いずれも15分前　\n　　　　旧廣盛酒造前集合\n会　場：伊勢町地区\n参加費：無料
URL:https://nakanojo-biennale.com/event/lets-talk-in-art%ef%bc%88visual-thinking-strategies%ef%bc%89/2019-09-01
LOCATION:旧廣盛酒造\, 大字中之条町909-16\, 吾妻郡中之条町\, 群馬県\, 〒377-0424
CATEGORIES:参加型アート
ATTACH;FMTTYPE=image/jpeg:https://nakanojo-biennale.com/wp/wp-content/uploads/2019/06/NB2017_EV_Art-lab-for-kids_Talk-in-art_DSC0883_Photo-Fumihito-Nagai.jpg
GEO:36.5883593;138.8408336
X-APPLE-STRUCTURED-LOCATION;VALUE=URI;X-ADDRESS=旧廣盛酒造 大字中之条町909-16 吾妻郡中之条町 群馬県 〒377-0424;X-APPLE-RADIUS=500;X-TITLE=大字中之条町909-16:geo:138.8408336,36.5883593
END:VEVENT
BEGIN:VEVENT
DTSTART;TZID=Asia/Tokyo:20190901T130000
DTEND;TZID=Asia/Tokyo:20190901T170000
DTSTAMP:20260426T114943
CREATED:20190830T102411Z
LAST-MODIFIED:20190831T154838Z
UID:12798-1567342800-1567357200@nakanojo-biennale.com
SUMMARY:ホッチキスと古着で作るその場限りの６割お洋服「６WARI STUDIO」
DESCRIPTION:古着を使って自分好みのリメイク服を作ってみましょう。ただし、ハサミで裁断し、糸ではなくホッチキスでつなぎ合わせるため、普段着れる服を作るのではありません。\n自由で手軽な洋服のデザインアイディアを発想するワークショップです。 \n作家：西岳拡貴 \n日程：9月１日（日）１３：００〜１７：００\n会場：イサマムラ内  西岳拡貴展示会場  ６WARI STUDIO\n時間目安：10分～30分　（随時参加可能）\n参加費：無料
URL:https://nakanojo-biennale.com/event/6wari-studio-ws
LOCATION:イサマムラ\, 大字五反田3534-4\, 吾妻郡中之条町\, 群馬県\, 377-0432
CATEGORIES:ワークショップ
ATTACH;FMTTYPE=image/jpeg:https://nakanojo-biennale.com/wp/wp-content/uploads/2019/08/69402739_416435675516042_1812462257448157184_n.jpg
GEO:36.6216113;138.8365332
X-APPLE-STRUCTURED-LOCATION;VALUE=URI;X-ADDRESS=イサマムラ 大字五反田3534-4 吾妻郡中之条町 群馬県 377-0432;X-APPLE-RADIUS=500;X-TITLE=大字五反田3534-4:geo:138.8365332,36.6216113
END:VEVENT
BEGIN:VEVENT
DTSTART;TZID=Asia/Tokyo:20190901T140000
DTEND;TZID=Asia/Tokyo:20190901T144000
DTSTAMP:20260426T114943
CREATED:20190620T044225Z
LAST-MODIFIED:20190711T021225Z
UID:11095-1567346400-1567348800@nakanojo-biennale.com
SUMMARY:パフォーマンス公演「epigraph」
DESCRIPTION:古い家電、メディア装置を使ったジャグリングパフォーマンスを行います。\nジャグリングというと玉や輪、棍棒などを使用するイメージが強いとかと思います。投げたり、取ったり、載せたり。ですが、ものと体はそういった「かたち」の扱い方によって生まれる主客の関係性だけでなく、「記憶」によっても関係性が結ばれるはずです。今回はジャグリングの道具の代わりに記憶の染み付いた道具を使用して、「新しくものと出会い直す方法」を模索します。 \n作　家：岡本晃樹 \n日　程：9/1(日)、9/8(日)、9/15(日)、9/22(日)　各日14：00～\nパフォーマンス時間：40分ほど\n会　場：中之条ガーデンズ 花みどり館\n参加費：入場無料・投げ銭歓迎
URL:https://nakanojo-biennale.com/event/performance-epigraph/2019-09-01
LOCATION:群馬県
CATEGORIES:パフォーマンス
ATTACH;FMTTYPE=image/jpeg:https://nakanojo-biennale.com/wp/wp-content/uploads/2019/06/DSC01701.jpg
END:VEVENT
END:VCALENDAR