BEGIN:VCALENDAR
VERSION:2.0
PRODID:-//中之条ビエンナーレ 国際現代芸術祭  NAKANOJO BIENNALE - ECPv5.5.0//NONSGML v1.0//EN
CALSCALE:GREGORIAN
METHOD:PUBLISH
X-WR-CALNAME:中之条ビエンナーレ 国際現代芸術祭  NAKANOJO BIENNALE
X-ORIGINAL-URL:https://nakanojo-biennale.com
X-WR-CALDESC:中之条ビエンナーレ 国際現代芸術祭  NAKANOJO BIENNALE のイベント
BEGIN:VTIMEZONE
TZID:Asia/Tokyo
BEGIN:STANDARD
TZOFFSETFROM:+0900
TZOFFSETTO:+0900
TZNAME:JST
DTSTART:20190101T000000
END:STANDARD
END:VTIMEZONE
BEGIN:VEVENT
DTSTART;TZID=Asia/Tokyo:20190831T120000
DTEND;TZID=Asia/Tokyo:20190831T210000
DTSTAMP:20260426T114912
CREATED:20190701T070857Z
LAST-MODIFIED:20190830T123451Z
UID:11823-1567252800-1567285200@nakanojo-biennale.com
SUMMARY:伊勢町祇園祭
DESCRIPTION:山車の巡業のほか、千人踊りや八木節など各種イベントが行われ賑わいます。 \n会場：国道145号線　伊勢町商店街（中之条伊勢町エリア・中之条駅ちかく）\n日程：\n8/31（土）12:00～21:00\n9/ 1（日）11:00～21:00 \n 
URL:https://nakanojo-biennale.com/event/isemachi-gionsai2019/2019-08-31
LOCATION:伊勢町商店街\, 伊勢町980-5\, 中之条町\, 群馬県\, Japan
CATEGORIES:イベント
ATTACH;FMTTYPE=image/jpeg:https://nakanojo-biennale.com/wp/wp-content/uploads/2019/07/EV_EV_Isemachi-gion_DSC0748_Photo-Tetsuo-Yamashige.jpg
END:VEVENT
BEGIN:VEVENT
DTSTART;TZID=Asia/Tokyo:20190831T130000
DTEND;TZID=Asia/Tokyo:20190831T170000
DTSTAMP:20260426T114912
CREATED:20190619T082615Z
LAST-MODIFIED:20190801T054337Z
UID:11021-1567256400-1567270800@nakanojo-biennale.com
SUMMARY:三十三間堂プロジェクトワークショップ「観音菩薩さまになろう！@清見寺」
DESCRIPTION:TETTAによる三十三間堂プロジェクトの関連イベントです。\nこれまでに1700名（2019年4月現在）を超える参加者が観音菩薩に変身してきました。\n観音菩薩は「人々を救い、文化を守り、伝えゆくものの象徴」です。\n参加者は極彩色のメイクを施し、仏となって顔写真を撮影します。顔写真は、全て左顔をシンメトリーに合成し、人間の顔から少し逸脱した仏顔へと再構成されます。顔写真撮影後は、清見寺の境内にある蓮台での撮影をし、中之条の町の魅力を再発見する旅に出かけましょう！\nhttp://33project.com \n作　　家：TETTA（杉本聡子） \n日　　時：8月31日（土）13:00～17:00\n所要時間：❶13:00-13:30(30min) TETTA の仏像講座\n❷13:30-14:30(60min)　菩薩メイクアップ\n❸14:30-15:00(30min)　菩薩顔写真撮影\n❹15:00-15:30(30min)　蓮台での撮影 休憩(10min)\n❺15:40-16:10(30min) Tsumuji までお散歩\n❻17:00　解散\n会　　場：清見寺\n参 加 費： 2.000円（仏像講座+菩薩メイク+撮影+中之条菩薩ツアー） \nお問合せ・ご予約はこちらまで\n三十三間堂プロジェクト（TETTA）\n33project2010@gmail.com \n大きなストールや、布、ワンピースなどの仏っぽい衣装。\n気になさる方は、お化粧直しの道具、お肌に合う下地やファンデーション、化粧落としをお持ちください。（こちらでも用意しています。）
URL:https://nakanojo-biennale.com/event/sanju-san-gendo-project-bodhisattva-make-up-workshop-seiken-ji-temple
LOCATION:群馬県
CATEGORIES:参加型アート
ATTACH;FMTTYPE=image/jpeg:https://nakanojo-biennale.com/wp/wp-content/uploads/2019/05/IMG_2015-e1562811693923.jpeg
END:VEVENT
BEGIN:VEVENT
DTSTART;TZID=Asia/Tokyo:20190831T140000
DTEND;TZID=Asia/Tokyo:20190831T160000
DTSTAMP:20260426T114912
CREATED:20190619T074452Z
LAST-MODIFIED:20190711T022204Z
UID:10995-1567260000-1567267200@nakanojo-biennale.com
SUMMARY:動く、踊る、奏でる！ブラジルのカポエイラを体験してみよう！
DESCRIPTION:カポエイラとはブラジルの伝統芸能です。動き、戦い、踊り、音楽など様々な要素が含まれています。もともとはアフリカからブラジルに連れてこられた奴隷たちが身を守るための護身術であったと言われています。しかし、練習しているのを見つかると罰せられたため、踊りや音楽を取り入れ、カモフラージュして受け継がれてきました。現在では、格闘技としても、もちろんですが、スポーツとしても親しまれ、世界のいろんな場所で行われています。ちょっと気になったら、是非体験して新しい世界を体感してください！運動が苦手と言う方も大歓迎です！ \n作　家：Capoeira Batuque 森田芳文 \n日　時：8月31日（土）14:00〜16:00\n9月21日（土）14:00〜16:00\n会　場：イサマムラ内　交流館\n対　象：小学生以上\n参加費：500円（見学無料） \n※運動できる服装、着替え、裸足or靴(靴の場合は室内ですので体育館シューズなど動きやすい靴をお持ちください)\n飲み物をご持参ください
URL:https://nakanojo-biennale.com/event/move-dance-music-experience-brazils-capoeira/2019-08-31
LOCATION:イサマムラ\, 大字五反田3534-4\, 吾妻郡中之条町\, 群馬県\, 377-0432
CATEGORIES:参加型アート
ATTACH;FMTTYPE=image/jpeg:https://nakanojo-biennale.com/wp/wp-content/uploads/2019/05/image1-1-e1562811718103.jpeg
GEO:36.6216113;138.8365332
X-APPLE-STRUCTURED-LOCATION;VALUE=URI;X-ADDRESS=イサマムラ 大字五反田3534-4 吾妻郡中之条町 群馬県 377-0432;X-APPLE-RADIUS=500;X-TITLE=大字五反田3534-4:geo:138.8365332,36.6216113
END:VEVENT
END:VCALENDAR