BEGIN:VCALENDAR
VERSION:2.0
PRODID:-//中之条ビエンナーレ 国際現代芸術祭  NAKANOJO BIENNALE - ECPv5.5.0//NONSGML v1.0//EN
CALSCALE:GREGORIAN
METHOD:PUBLISH
X-WR-CALNAME:中之条ビエンナーレ 国際現代芸術祭  NAKANOJO BIENNALE
X-ORIGINAL-URL:https://nakanojo-biennale.com
X-WR-CALDESC:中之条ビエンナーレ 国際現代芸術祭  NAKANOJO BIENNALE のイベント
BEGIN:VTIMEZONE
TZID:Asia/Tokyo
BEGIN:STANDARD
TZOFFSETFROM:+0900
TZOFFSETTO:+0900
TZNAME:JST
DTSTART:20190101T000000
END:STANDARD
END:VTIMEZONE
BEGIN:VEVENT
DTSTART;TZID=Asia/Tokyo:20190826T100000
DTEND;TZID=Asia/Tokyo:20190826T133000
DTSTAMP:20260426T125645
CREATED:20190822T082545Z
LAST-MODIFIED:20190917T093644Z
UID:12464-1566813600-1566826200@nakanojo-biennale.com
SUMMARY:KAIDAN 製本ワークショップ
DESCRIPTION:アリサ・ベルゲルの展示に参加しませんか？\n展示されている作品を組み合わせ、オリジナルのKAIDAN Book を作りましょう。\n作った作品は会場に展示されます。\n記念に持ち帰りたい方は２冊製作し、１冊会場に設置し、１冊はお持ち帰りいただけます。 \n作家：アリサ・ベルゲル \n日程：8月26日（月）10:00-10:30　11:00-11:30　13:00-13:30 (全3回)\n追加日程１：9月14日（土）13:00-14:00（先着15名。所要時間10-20分程度）\n追加日程２：9月21日（土）13:00-14:00（先着15名。所要時間10-20分程度） \n所要時間：10-20分\n会場：旧沢田小学校２F　アリサ・ベルゲル会場　多目的スペース\n参加費：無料\n素材がなくなり次第終了 \n 
URL:https://nakanojo-biennale.com/event/kaidan-book-workshop/2019-08-26
LOCATION:旧沢田小学校\, 群馬県吾妻郡中之条町下沢渡964-1
CATEGORIES:ワークショップ
ATTACH;FMTTYPE=image/jpeg:https://nakanojo-biennale.com/wp/wp-content/uploads/2019/08/kaidan_17.jpg
GEO:36.6114193;138.7925903
X-APPLE-STRUCTURED-LOCATION;VALUE=URI;X-ADDRESS=旧沢田小学校 群馬県吾妻郡中之条町下沢渡964-1;X-APPLE-RADIUS=500;X-TITLE=群馬県吾妻郡中之条町下沢渡964-1:geo:138.7925903,36.6114193
END:VEVENT
END:VCALENDAR