BEGIN:VCALENDAR
VERSION:2.0
PRODID:-//中之条ビエンナーレ 国際現代芸術祭  NAKANOJO BIENNALE - ECPv5.5.0//NONSGML v1.0//EN
CALSCALE:GREGORIAN
METHOD:PUBLISH
X-WR-CALNAME:中之条ビエンナーレ 国際現代芸術祭  NAKANOJO BIENNALE
X-ORIGINAL-URL:https://nakanojo-biennale.com
X-WR-CALDESC:中之条ビエンナーレ 国際現代芸術祭  NAKANOJO BIENNALE のイベント
BEGIN:VTIMEZONE
TZID:Asia/Tokyo
BEGIN:STANDARD
TZOFFSETFROM:+0900
TZOFFSETTO:+0900
TZNAME:JST
DTSTART:20190101T000000
END:STANDARD
END:VTIMEZONE
BEGIN:VEVENT
DTSTART;TZID=Asia/Tokyo:20190825T093000
DTEND;TZID=Asia/Tokyo:20190825T170000
DTSTAMP:20260426T125645
CREATED:20190615T032205Z
LAST-MODIFIED:20190911T085318Z
UID:11285-1566725400-1566752400@nakanojo-biennale.com
SUMMARY:インスタ映えフォト体験（映えフォト）
DESCRIPTION:インスタ映え映像作品を投影し、映像の前でお客様に立って頂きます。\n写真家が映像越しのアートスティックな写真を撮影。\n1組20分で順次ご案内致します。\nアートに触れながらプロの写真家の撮影が体験できるワークショップです。\nStudio Artisでお洒落な記念撮影をしませんか？\nStudio Artisのインスタをフォローしタグ付けして頂いたお客様は¥500引き。\n撮影データはその場で1カットプレゼントし、\nプリント（2Lサイズ）をご希望のお客様には別途¥500円でお渡しいたします。 \n作家：Studio Artis\n太田夏希、山根大季　、賣野春香　、高橋亜矢 \n※9月14日（土）は中止となりました。 \n日程：8月25日（日）、31日（土）、\n9月1日（日）、7日（土）、8日（日）、14日（土）、15日（日）、16日（月）、21日（土）、22日（日）\n時間：10:00〜17:00 　受付開始　9:30\n会場：イサマムラ3F Studio Artisアトリエ（受付1Fワークショップスペース）\n参加費：体験料　1人1000円（Studio Artisのインスタをフォローしタグ付けをして頂くと500円OFF）※3歳以下無料\n小学生以下は保護者同伴
URL:https://nakanojo-biennale.com/event/instagrammable-photo-experience/2019-08-25
LOCATION:イサマムラ\, 大字五反田3534-4\, 吾妻郡中之条町\, 群馬県\, 377-0432
CATEGORIES:参加型アート
ATTACH;FMTTYPE=image/jpeg:https://nakanojo-biennale.com/wp/wp-content/uploads/2019/06/ping.jpg
GEO:36.6216113;138.8365332
X-APPLE-STRUCTURED-LOCATION;VALUE=URI;X-ADDRESS=イサマムラ 大字五反田3534-4 吾妻郡中之条町 群馬県 377-0432;X-APPLE-RADIUS=500;X-TITLE=大字五反田3534-4:geo:138.8365332,36.6216113
END:VEVENT
BEGIN:VEVENT
DTSTART;TZID=Asia/Tokyo:20190825T093000
DTEND;TZID=Asia/Tokyo:20190825T170000
DTSTAMP:20260426T125645
CREATED:20190619T110820Z
LAST-MODIFIED:20190827T103737Z
UID:11380-1566725400-1566752400@nakanojo-biennale.com
SUMMARY:砂塵旅行団　The tourpe of sand
DESCRIPTION:風が何者かが通りすぎる\nその跡に舞い上がる砂に塵\n時に嵐のように吹き荒れ\nしばらく滞在して視界を曇らせる\n時に鼻腔にまで入り込み\nクシャミや咳のいたずら\n静かに堆積し時間を張り付ける\n厄介者ではあるが所詮は埃\n吹けば飛ぶような旅一座 \n姿を見せてはまた粒子となり\n漂いゆきます、砂塵旅行団 \n作家：DamaDamTal+\nパフォーマー : みきたまき、大塚 陽、木村元郁\n演奏: 新村隆慶、新村康子\n衣装: Ritenutobytac\n織り: 加々美真理子 \n日程：8月25日(月)～9月22日(土) \n【パフォーマンス・スケジュール】 \n8/26(月)〜8/31(土) 六合エリア\n9/1(日)〜9/6(金) 伊参エリア\n9/7(土)〜9/12(木) 四万エリア\n9/13(金)〜9/18(水) 沢渡・中之条エリア\n9/19(木)〜9/21(土) 後日発表 \n\n  \n※8/25(日) 伊参スタジオ体育館\n半谷学 展示空間 15:00〜約45分 \n  \n※8/27、8/28、8/29\n六合エリア\n14時〜 赤岩広場から水車小屋\n15時〜 湯本家\n16時〜 湯本家 高田研二郎 展示会場 \n\n  \n※ 8/31(土)・9/1(日)\nDamaDamTal+ ボンキーズ\nLiveツアー in 中之条ビエンナーレ\n8/31(土)　 15:00〜 旧太子駅 (西澤利高 展示会場)\nからスタート その他詳細別途 \n  \n※9/8 (日) 15:00～15:45\n旧第三小学校元木孝美 「校庭 / school yard」展示会場\n三好_槇田 「Shima Pixel」展示会場 \n  \n※9/16(祝) 旧沢田小学校 保健室 (10:00〜17:00)\n加々見真理子による展示パフォーマンス \n  \n※9/22(日) 旧五反田学校\n鳥越義弘 展示空間 15:00〜約45分 \n  \n▼詳しくはこちらをご覧ください \nhttps://www.damadamtal.com/nakanojo-biennale2019 \n 
URL:https://nakanojo-biennale.com/event/the-tourpe-of-sand/2019-08-25
LOCATION:群馬県
CATEGORIES:パフォーマンス
ATTACH;FMTTYPE=image/jpeg:https://nakanojo-biennale.com/wp/wp-content/uploads/2019/06/NB2019_DamaDamTal_DSC3719_Photo-Miho-Nishikata.jpg
END:VEVENT
BEGIN:VEVENT
DTSTART;TZID=Asia/Tokyo:20190825T110000
DTEND;TZID=Asia/Tokyo:20190825T170000
DTSTAMP:20260426T125645
CREATED:20190704T023207Z
LAST-MODIFIED:20190824T040151Z
UID:11887-1566730800-1566752400@nakanojo-biennale.com
SUMMARY:家Tーシャツ　ワークショップ
DESCRIPTION:STOREの『家T−シャツ』をアイロンで圧着するシートで自由にカスタムするワークショップ。\n＊対象４歳〜 \n作　家：STORE \n日　時：8月25日（日）11：00～17：00\n会　場：イサマムラ　ワークショップスペース\n予　約：予約不要\n参加費：T-シャツ代金＋500円\n所要時間：15分\n対象年齢：4才～
URL:https://nakanojo-biennale.com/event/house-t-shirts-workshop
LOCATION:イサマムラ\, 大字五反田3534-4\, 吾妻郡中之条町\, 群馬県\, 377-0432
CATEGORIES:参加型アート
ATTACH;FMTTYPE=image/jpeg:https://nakanojo-biennale.com/wp/wp-content/uploads/2019/07/DSC_3480-1-e1562811631251.jpg
GEO:36.6216113;138.8365332
X-APPLE-STRUCTURED-LOCATION;VALUE=URI;X-ADDRESS=イサマムラ 大字五反田3534-4 吾妻郡中之条町 群馬県 377-0432;X-APPLE-RADIUS=500;X-TITLE=大字五反田3534-4:geo:138.8365332,36.6216113
END:VEVENT
BEGIN:VEVENT
DTSTART;TZID=Asia/Tokyo:20190825T130000
DTEND;TZID=Asia/Tokyo:20190825T153000
DTSTAMP:20260426T125645
CREATED:20190620T073546Z
LAST-MODIFIED:20190711T021246Z
UID:11141-1566738000-1566747000@nakanojo-biennale.com
SUMMARY:トバシ+紙ふぶき
DESCRIPTION:リュウ2の「トバシ」は、縦横無尽に絵の具と音と映像をぶちまける即興的でプリミティブな手法の集合体。プリミティブで刹那的なエネルギーに、絵の具が音が踊り弾ける躍動感に溢れたライブパフォーマンス。吉田興平の「紙ふぶき」は、紙をハサミで切って紙ふぶきを作る。彼の表現はシンプルなその繰り返し。雑誌を細長く切り揃え、ひたすら切り続ける。四角の大きさはその日の気分で。切り終わったら投げて、吹いて終わり。対照的な動と静の初めてのジョイントライブ。 \n出　演：小柏龍太郎　前島芳隆　吉田興平　モッキー　上野理津子　朝岡研\n作　家：リュウ2（小柏龍太郎+前島芳隆）、吉田興平／工房あかね アトリエART・ON \n日　時：8月25日(日)　13：30～15：30　入退場自由\n会　場：イサマムラ内　交流館\n参加費：入場無料 \n参加の場合は、絵具がついても良い服装・靴。\n離れて楽器で参加の場合は、特になし。
URL:https://nakanojo-biennale.com/event/ryutaro-ogashiwa%e3%80%80-yoshitaka-maejima%e3%80%80-kouhei-yoshida%e3%80%80mockie%e3%80%80ritsuko-ueno%e3%80%80ken-asaoka
LOCATION:イサマムラ\, 大字五反田3534-4\, 吾妻郡中之条町\, 群馬県\, 377-0432
CATEGORIES:参加型アート
ATTACH;FMTTYPE=image/jpeg:https://nakanojo-biennale.com/wp/wp-content/uploads/2019/06/P1030994.jpg
GEO:36.6216113;138.8365332
X-APPLE-STRUCTURED-LOCATION;VALUE=URI;X-ADDRESS=イサマムラ 大字五反田3534-4 吾妻郡中之条町 群馬県 377-0432;X-APPLE-RADIUS=500;X-TITLE=大字五反田3534-4:geo:138.8365332,36.6216113
END:VEVENT
BEGIN:VEVENT
DTSTART;TZID=Asia/Tokyo:20190825T153000
DTEND;TZID=Asia/Tokyo:20190825T160000
DTSTAMP:20260426T125645
CREATED:20190620T021552Z
LAST-MODIFIED:20190711T021246Z
UID:11089-1566747000-1566748800@nakanojo-biennale.com
SUMMARY:丹下一ソロパフォーマンス “Stick”
DESCRIPTION:Tama+ project主宰。俳優、演出。俳優としては「お芝居」から「現代演劇」、プレイバックシアターまで幅広く活動。東北の山伏神楽との出会いから、能以前の芸能や「古事記」を学び様々な形で舞台化。「古事記」以前、を探っている。今回は「農具」のルーツでもある「一本の棒」をたよりに３日間で３０分×３回の連続したソロ舞台を構成。お芝居でもダンスでも舞踊でもない「演劇」の時間にお立ち会い下さいませ。 \n出　演：丹下一（俳優・演出）、Tama+ project\n作　家：ヒグマ春夫 \n日　程：８月２５日（日）〜２７日（火）１５：３０−１６：００\n会　場：旧沢田小学校　ヒグマ春夫展示会場\n対　象：小学生以上\n参加費：カンパ \n撮影者・山口敦
URL:https://nakanojo-biennale.com/event/tange-makoto-soro-performance-stick/2019-08-25
LOCATION:旧沢田小学校\, 群馬県吾妻郡中之条町下沢渡964-1
CATEGORIES:パフォーマンス
ATTACH;FMTTYPE=image/jpeg:https://nakanojo-biennale.com/wp/wp-content/uploads/2019/06/tange-1.jpg
GEO:36.6114193;138.7925903
X-APPLE-STRUCTURED-LOCATION;VALUE=URI;X-ADDRESS=旧沢田小学校 群馬県吾妻郡中之条町下沢渡964-1;X-APPLE-RADIUS=500;X-TITLE=群馬県吾妻郡中之条町下沢渡964-1:geo:138.7925903,36.6114193
END:VEVENT
END:VCALENDAR