BEGIN:VCALENDAR
VERSION:2.0
PRODID:-//中之条ビエンナーレ 国際現代芸術祭  NAKANOJO BIENNALE - ECPv5.5.0//NONSGML v1.0//EN
CALSCALE:GREGORIAN
METHOD:PUBLISH
X-WR-CALNAME:中之条ビエンナーレ 国際現代芸術祭  NAKANOJO BIENNALE
X-ORIGINAL-URL:https://nakanojo-biennale.com
X-WR-CALDESC:中之条ビエンナーレ 国際現代芸術祭  NAKANOJO BIENNALE のイベント
BEGIN:VTIMEZONE
TZID:Asia/Tokyo
BEGIN:STANDARD
TZOFFSETFROM:+0900
TZOFFSETTO:+0900
TZNAME:JST
DTSTART:20190101T000000
END:STANDARD
END:VTIMEZONE
BEGIN:VEVENT
DTSTART;TZID=Asia/Tokyo:20190803T100000
DTEND;TZID=Asia/Tokyo:20190803T120000
DTSTAMP:20260426T125650
CREATED:20190619T075914Z
LAST-MODIFIED:20190711T021247Z
UID:11017-1564826400-1564833600@nakanojo-biennale.com
SUMMARY:中之条の動物になって足湯に入ろう！(作品『み～ん～なの足湯』ワークショップ)
DESCRIPTION:「野生動物たちの体の、自分と同じところや違うところを見てみよう。特に動物たちの”自分には無いところ”を、工作して身につけて、真似をしたり、足湯の作品へ入ろう！」\n（中之条の野生動物たちの剥製などを用意する。それらの体の形を見て特徴を捉え、自分自身と同じところや違うところに気づく。主に”自分には無いところ”を、様々な素材で工作し、身につけ、実感する。そして、動物たちの真似をして遊んだり、足湯の作品へ入る。記念撮影もする。中之条の大事な地や湯を様々な姿で共有することで、生き物、生き方の多様性を楽しみながら感じる。） \n作家：近藤愛子 \n日時：8/3(土)10:00～12:00受付随時、入退場自由。\n　　　9/7(土)14:00～16:00受付随時、入退場自由。\n会場：つむじ芝生集合（ステージ・足湯も使用)\n参加費：無料 \n未就学児は保護者同伴
URL:https://nakanojo-biennale.com/event/lets-become-a-nakanojo-animal-and-enter-footbath/2019-08-03
CATEGORIES:参加型アート
ATTACH;FMTTYPE=image/jpeg:https://nakanojo-biennale.com/wp/wp-content/uploads/2019/06/000.jpg
END:VEVENT
END:VCALENDAR