BEGIN:VCALENDAR
VERSION:2.0
PRODID:-//中之条ビエンナーレ 国際現代芸術祭  NAKANOJO BIENNALE - ECPv5.5.0//NONSGML v1.0//EN
CALSCALE:GREGORIAN
METHOD:PUBLISH
X-WR-CALNAME:中之条ビエンナーレ 国際現代芸術祭  NAKANOJO BIENNALE
X-ORIGINAL-URL:https://nakanojo-biennale.com
X-WR-CALDESC:中之条ビエンナーレ 国際現代芸術祭  NAKANOJO BIENNALE のイベント
BEGIN:VTIMEZONE
TZID:Asia/Tokyo
BEGIN:STANDARD
TZOFFSETFROM:+0900
TZOFFSETTO:+0900
TZNAME:JST
DTSTART:20170101T000000
END:STANDARD
END:VTIMEZONE
BEGIN:VEVENT
DTSTART;VALUE=DATE:20170909
DTEND;VALUE=DATE:20170910
DTSTAMP:20260421T202054
CREATED:20170809T091148Z
LAST-MODIFIED:20170922T025520Z
UID:6831-1504915200-1505001599@nakanojo-biennale.com
SUMMARY:麻がらヒンメリワークショップ・光のモビールを作ろう
DESCRIPTION:日本の麻の茎（麻がら）を使って、フィンランドの伝統装飾『ヒンメリ』をつくります。 本来のヒンメリは麦わらが使われています。収穫したばかりのわらには精霊が宿り幸せをよぶ力があると伝えられ、人々は、わらから作ったヒンメリを吊るし、天へとつながる光の道を感じながら、翌年の豊穣と太陽を心待ちにしたそうです。 また、日本では大麻は天と地をつなぎ、神が宿る植物といい伝えられています。 今回は、簡単な基本のかたち、八面体を一緒につくってみましょう。予約優先。\n作家：Chica Notch\n \n日程：9/9（土）9/10（日）10/8（日）10/9（月祝）\n時間：10：00～12：00　14：00～16：00\n会場：イサマムラ　ショップ\n所要時間：約30分\n参加費：500円/1つ \n※予約優先となります。\n中之条ビエンナーレの実行委員会事務局へお問い合わせください。\nお問い合わせ先はこちら 》
URL:https://nakanojo-biennale.com/event/hemp-stalk-himmeli/2017-09-09
LOCATION:イサマムラ\, 大字五反田3534-4\, 吾妻郡中之条町\, 群馬県\, 377-0432
CATEGORIES:参加型アート
ATTACH;FMTTYPE=image/jpeg:https://nakanojo-biennale.com/wp/wp-content/uploads/2017/08/WS_Chica-Notch_IMG_2121.jpg
GEO:36.6216113;138.8365332
X-APPLE-STRUCTURED-LOCATION;VALUE=URI;X-ADDRESS=イサマムラ 大字五反田3534-4 吾妻郡中之条町 群馬県 377-0432;X-APPLE-RADIUS=500;X-TITLE=大字五反田3534-4:geo:138.8365332,36.6216113
END:VEVENT
END:VCALENDAR